BEGIN:VCALENDAR
VERSION:2.0
PRODID:-//ChamberMaster//Event Calendar 2.0//EN
METHOD:PUBLISH
X-PUBLISHED-TTL:P3D
REFRESH-INTERVAL:P3D
CALSCALE:GREGORIAN
BEGIN:VEVENT
DTSTART:20240409T140000Z
DTEND:20240409T150000Z
X-MICROSOFT-CDO-ALLDAYEVENT:FALSE
SUMMARY:Ribbon Cutting | Dalsin Industries
DESCRIPTION:Ribbon Cutting | Dalsin Industries
X-ALT-DESC;FMTTYPE=text/html:Ribbon Cutting | Dalsin Industries&nbsp\;
LOCATION:9583 217th St W\, Suite 160 Lakeville MN 55044
UID:e.1386.405027
SEQUENCE:3
DTSTAMP:20260421T103130Z
URL:https://business.lakevillechamber.org/events/details/ribbon-cutting-dalsin-industries-405027
END:VEVENT

END:VCALENDAR
