BEGIN:VCALENDAR
VERSION:2.0
PRODID:-//ChamberMaster//Event Calendar 2.0//EN
METHOD:PUBLISH
X-PUBLISHED-TTL:P3D
REFRESH-INTERVAL:P3D
CALSCALE:GREGORIAN
BEGIN:VEVENT
DTSTART:20230925T150000Z
DTEND:20230925T160000Z
X-MICROSOFT-CDO-ALLDAYEVENT:FALSE
SUMMARY:Ribbon Cutting | Board & Brush
DESCRIPTION:Ribbon Cutting | Board & Brush
X-ALT-DESC;FMTTYPE=text/html:Ribbon Cutting | Board &amp\; Brush
LOCATION:20770 Holyoke Ave Lakeville\, MN 55044
UID:e.1386.404897
SEQUENCE:3
DTSTAMP:20260426T013554Z
URL:https://business.lakevillechamber.org/events/details/ribbon-cutting-board-brush-404897
END:VEVENT

END:VCALENDAR
