BEGIN:VCALENDAR
VERSION:2.0
PRODID:-//ChamberMaster//Event Calendar 2.0//EN
METHOD:PUBLISH
X-PUBLISHED-TTL:P3D
REFRESH-INTERVAL:P3D
CALSCALE:GREGORIAN
BEGIN:VEVENT
DTSTART:20241106T180000Z
DTEND:20241106T190000Z
X-MICROSOFT-CDO-ALLDAYEVENT:FALSE
SUMMARY:Community Event - Lunch & Learn
DESCRIPTION:Are you starting a new business or need guidance on your existing one? Join us for an informative Lunch & Learn session where we'll dive into the different types of business entities (LLCs\, S-Corps\, Sole Proprietorships\, etc.) and help you understand the right choice for your business. Whether you're a new business owner\, running a small or home-based business\, or simply want to make sure your business structure is set up for success\, this event is for you!\n\n\n\nRegister at bit.ly/heimdallunchandlearn
X-ALT-DESC;FMTTYPE=text/html:Are you starting a new business or need guidance on your existing one? Join us for an informative Lunch &amp\; Learn session where we&#39\;ll dive into the different types of business entities (LLCs\, S-Corps\, Sole Proprietorships\, etc.) and help you understand the right choice for your business. Whether you&#39\;re a new business owner\, running a small or home-based business\, or simply want to make sure your business structure is set up for success\, this event is for you!<br />\n<br />\nRegister at bit.ly/heimdallunchandlearn
LOCATION:Elko New Market Public Library 110 J. Roberts Way Elko New Market\, MN 55054
UID:e.1386.405707
SEQUENCE:3
DTSTAMP:20260424T110332Z
URL:https://business.lakevillechamber.org/events/details/community-event-lunch-learn-405707
END:VEVENT

END:VCALENDAR
