BEGIN:VCALENDAR
VERSION:2.0
PRODID:-//ChamberMaster//Event Calendar 2.0//EN
METHOD:PUBLISH
X-PUBLISHED-TTL:P3D
REFRESH-INTERVAL:P3D
CALSCALE:GREGORIAN
BEGIN:VEVENT
DTSTART:20240421T003000Z
DTEND:20240421T020000Z
X-MICROSOFT-CDO-ALLDAYEVENT:FALSE
SUMMARY:Community Event- Buck Hill & YBC: Stand Up Comedy with Mike Brody
DESCRIPTION:Stand Up Comedy with Mike Brody at Buck Hill Event Center! Brody has spent the last 20 plus years touring the US and internationally and has also been featured on the nationally syndicated radio program "The Bob & Tom Show" as the "The Dan Patrick Show" podcase. He\;s recorded two comedy albums on the Rooftop Comedy\, with tracks regularly featured on SirusXM Satellite Radio. Brody can also be seen in his Dry Bar Comedy special "Not Afraid of Butterflies."
X-ALT-DESC;FMTTYPE=text/html:Stand Up Comedy with Mike Brody at Buck Hill Event Center! Brody has spent the last 20 plus years touring the US and internationally and has also been featured on the nationally syndicated radio program &quot\;The Bob &amp\; Tom Show&quot\; as the &quot\;The Dan Patrick Show&quot\; podcase. He\;s recorded two comedy albums on the Rooftop Comedy\, with tracks regularly featured on SirusXM Satellite Radio. Brody can also be seen in his Dry Bar Comedy special &quot\;Not Afraid of Butterflies.&quot\;
LOCATION:Buck Hill Event Center 15400 Buck Hill Rd Burnsville\, MN 55337
UID:e.1386.405057
SEQUENCE:3
DTSTAMP:20260420T044319Z
URL:https://business.lakevillechamber.org/events/details/community-event-buck-hill-ybc-stand-up-comedy-with-mike-brody-405057
END:VEVENT

END:VCALENDAR
