BEGIN:VCALENDAR
VERSION:2.0
PRODID:-//ChamberMaster//Event Calendar 2.0//EN
METHOD:PUBLISH
X-PUBLISHED-TTL:P3D
REFRESH-INTERVAL:P3D
CALSCALE:GREGORIAN
BEGIN:VEVENT
DTSTART:20200129T000000Z
DTEND:20200129T030000Z
X-MICROSOFT-CDO-ALLDAYEVENT:FALSE
SUMMARY:2020 Annual Dinner
DESCRIPTION:
X-ALT-DESC;FMTTYPE=text/html:<br />\n<br />\n&nbsp\;
LOCATION:Brackett's Crossing Country Club
UID:e.1386.404021
SEQUENCE:3
DTSTAMP:20260422T145020Z
URL:https://business.lakevillechamber.org/events/details/2020-annual-dinner-404021
END:VEVENT

END:VCALENDAR
